BEGIN:VCALENDAR
VERSION:2.0
PRODID:-//First Medical Response - ECPv6.15.14//NONSGML v1.0//EN
CALSCALE:GREGORIAN
METHOD:PUBLISH
X-ORIGINAL-URL:https://www.fmrsa.openv.co.za
X-WR-CALDESC:Events for First Medical Response
REFRESH-INTERVAL;VALUE=DURATION:PT1H
X-Robots-Tag:noindex
X-PUBLISHED-TTL:PT1H
BEGIN:VTIMEZONE
TZID:Africa/Harare
BEGIN:STANDARD
TZOFFSETFROM:+0200
TZOFFSETTO:+0200
TZNAME:CAT
DTSTART:20250101T000000
END:STANDARD
END:VTIMEZONE
BEGIN:VEVENT
DTSTART;TZID=Africa/Harare:20260422T090000
DTEND;TZID=Africa/Harare:20260422T160000
DTSTAMP:20260420T163930
CREATED:20260120T065233Z
LAST-MODIFIED:20260120T072913Z
UID:1267-1776848400-1776873600@www.fmrsa.openv.co.za
SUMMARY:Health & Safety Representative
DESCRIPTION:Prepares employees to take on the role of Health & Safety Representatives in the workplace\, ensuring workplace OHS compliance. \nMinimum requirement for company OHS compliance to the Occupational Health and Safety Act. \nClassroom:  1 day.\nOnline:  Pre-recorded/self-paced complete within 14-days
URL:https://www.fmrsa.openv.co.za/event/health-safety-representative-4/
LOCATION:First Medical Response:\, 45-6th Avenue\, Newton Park\, Port Elizabeth\, Eastern Cape\, 6045\, South Africa
CATEGORIES:Health & Safety Representative
ATTACH;FMTTYPE=image/png:https://www.fmrsa.openv.co.za/wp-content/uploads/2026/01/calendar-pic-she.png
END:VEVENT
BEGIN:VEVENT
DTSTART;TZID=Africa/Harare:20260514T090000
DTEND;TZID=Africa/Harare:20260514T160000
DTSTAMP:20260420T163930
CREATED:20260120T065233Z
LAST-MODIFIED:20260120T073116Z
UID:1268-1778749200-1778774400@www.fmrsa.openv.co.za
SUMMARY:Health & Safety Representative
DESCRIPTION:Prepares employees to take on the role of Health & Safety Representatives in the workplace\, ensuring workplace OHS compliance. \nMinimum requirement for company OHS compliance to the Occupational Health and Safety Act. \nClassroom:  1 day.\nOnline:  Pre-recorded/self-paced complete within 14-days
URL:https://www.fmrsa.openv.co.za/event/health-safety-representative-5/
LOCATION:First Medical Response:\, 45-6th Avenue\, Newton Park\, Port Elizabeth\, Eastern Cape\, 6045\, South Africa
CATEGORIES:Health & Safety Representative
ATTACH;FMTTYPE=image/png:https://www.fmrsa.openv.co.za/wp-content/uploads/2026/01/calendar-pic-she.png
END:VEVENT
BEGIN:VEVENT
DTSTART;TZID=Africa/Harare:20260602T090000
DTEND;TZID=Africa/Harare:20260602T160000
DTSTAMP:20260420T163930
CREATED:20260120T065233Z
LAST-MODIFIED:20260120T073050Z
UID:1269-1780390800-1780416000@www.fmrsa.openv.co.za
SUMMARY:Health & Safety Representative
DESCRIPTION:Prepares employees to take on the role of Health & Safety Representatives in the workplace\, ensuring workplace OHS compliance. \nMinimum requirement for company OHS compliance to the Occupational Health and Safety Act. \nClassroom:  1 day.\nOnline:  Pre-recorded/self-paced complete within 14-days
URL:https://www.fmrsa.openv.co.za/event/health-safety-representative-6/
LOCATION:First Medical Response:\, 45-6th Avenue\, Newton Park\, Port Elizabeth\, Eastern Cape\, 6045\, South Africa
CATEGORIES:Health & Safety Representative
ATTACH;FMTTYPE=image/png:https://www.fmrsa.openv.co.za/wp-content/uploads/2026/01/calendar-pic-she.png
END:VEVENT
BEGIN:VEVENT
DTSTART;TZID=Africa/Harare:20260624T090000
DTEND;TZID=Africa/Harare:20260624T160000
DTSTAMP:20260420T163930
CREATED:20260120T065434Z
LAST-MODIFIED:20260120T073025Z
UID:1270-1782291600-1782316800@www.fmrsa.openv.co.za
SUMMARY:Health & Safety Representative
DESCRIPTION:Prepares employees to take on the role of Health & Safety Representatives in the workplace\, ensuring workplace OHS compliance. \nMinimum requirement for company OHS compliance to the Occupational Health and Safety Act. \nClassroom:  1 day.\nOnline:  Pre-recorded/self-paced complete within 14-days
URL:https://www.fmrsa.openv.co.za/event/health-safety-representative-7/
LOCATION:First Medical Response:\, 45-6th Avenue\, Newton Park\, Port Elizabeth\, Eastern Cape\, 6045\, South Africa
CATEGORIES:Health & Safety Representative
ATTACH;FMTTYPE=image/png:https://www.fmrsa.openv.co.za/wp-content/uploads/2026/01/calendar-pic-she.png
END:VEVENT
BEGIN:VEVENT
DTSTART;TZID=Africa/Harare:20260716T090000
DTEND;TZID=Africa/Harare:20260716T160000
DTSTAMP:20260420T163930
CREATED:20260120T065434Z
LAST-MODIFIED:20260120T072959Z
UID:1271-1784192400-1784217600@www.fmrsa.openv.co.za
SUMMARY:Health & Safety Representative
DESCRIPTION:Prepares employees to take on the role of Health & Safety Representatives in the workplace\, ensuring workplace OHS compliance. \nMinimum requirement for company OHS compliance to the Occupational Health and Safety Act. \nClassroom:  1 day.\nOnline:  Pre-recorded/self-paced complete within 14-days
URL:https://www.fmrsa.openv.co.za/event/health-safety-representative-8/
LOCATION:First Medical Response:\, 45-6th Avenue\, Newton Park\, Port Elizabeth\, Eastern Cape\, 6045\, South Africa
CATEGORIES:Health & Safety Representative
ATTACH;FMTTYPE=image/png:https://www.fmrsa.openv.co.za/wp-content/uploads/2026/01/calendar-pic-she.png
END:VEVENT
BEGIN:VEVENT
DTSTART;TZID=Africa/Harare:20260805T090000
DTEND;TZID=Africa/Harare:20260805T160000
DTSTAMP:20260420T163930
CREATED:20260120T065434Z
LAST-MODIFIED:20260120T072937Z
UID:1272-1785920400-1785945600@www.fmrsa.openv.co.za
SUMMARY:Health & Safety Representative
DESCRIPTION:Prepares employees to take on the role of Health & Safety Representatives in the workplace\, ensuring workplace OHS compliance. \nMinimum requirement for company OHS compliance to the Occupational Health and Safety Act. \nClassroom:  1 day.\nOnline:  Pre-recorded/self-paced complete within 14-days
URL:https://www.fmrsa.openv.co.za/event/health-safety-representative-9/
LOCATION:First Medical Response:\, 45-6th Avenue\, Newton Park\, Port Elizabeth\, Eastern Cape\, 6045\, South Africa
CATEGORIES:Health & Safety Representative
ATTACH;FMTTYPE=image/png:https://www.fmrsa.openv.co.za/wp-content/uploads/2026/01/calendar-pic-she.png
END:VEVENT
END:VCALENDAR