BEGIN:VCALENDAR
VERSION:2.0
PRODID:-//First Medical Response - ECPv6.15.14//NONSGML v1.0//EN
CALSCALE:GREGORIAN
METHOD:PUBLISH
X-ORIGINAL-URL:https://www.fmrsa.openv.co.za
X-WR-CALDESC:Events for First Medical Response
REFRESH-INTERVAL;VALUE=DURATION:PT1H
X-Robots-Tag:noindex
X-PUBLISHED-TTL:PT1H
BEGIN:VTIMEZONE
TZID:Africa/Harare
BEGIN:STANDARD
TZOFFSETFROM:+0200
TZOFFSETTO:+0200
TZNAME:CAT
DTSTART:20250101T000000
END:STANDARD
END:VTIMEZONE
BEGIN:VEVENT
DTSTART;TZID=Africa/Harare:20260424T090000
DTEND;TZID=Africa/Harare:20260424T160000
DTSTAMP:20260420T164851
CREATED:20260120T065029Z
LAST-MODIFIED:20260120T070158Z
UID:1241-1777021200-1777046400@www.fmrsa.openv.co.za
SUMMARY:First Aid Level 1
DESCRIPTION:Essential first aid skills to respond confidently to common medical and trauma emergencies.\nLearn how to provide immediate\, lifesaving care until professional help arrives. \nMinimum requirement for OHS workplace compliance. \nClassroom: 1-day.\nOnline:  Pre-recorded/self-paced complete within 14-days.
URL:https://www.fmrsa.openv.co.za/event/first-aid-level-1-5/
LOCATION:First Medical Response:\, 45-6th Avenue\, Newton Park\, Port Elizabeth\, Eastern Cape\, 6045\, South Africa
CATEGORIES:First Aid Level 1
ATTACH;FMTTYPE=image/png:https://www.fmrsa.openv.co.za/wp-content/uploads/2026/01/calendar-pic-fa1.png
END:VEVENT
BEGIN:VEVENT
DTSTART;TZID=Africa/Harare:20260520T090000
DTEND;TZID=Africa/Harare:20260520T160000
DTSTAMP:20260420T164851
CREATED:20260120T065036Z
LAST-MODIFIED:20260120T070138Z
UID:1242-1779267600-1779292800@www.fmrsa.openv.co.za
SUMMARY:First Aid Level 1
DESCRIPTION:Essential first aid skills to respond confidently to common medical and trauma emergencies.\nLearn how to provide immediate\, lifesaving care until professional help arrives. \nMinimum requirement for OHS workplace compliance. \nClassroom: 1-day.\nOnline:  Pre-recorded/self-paced complete within 14-days.
URL:https://www.fmrsa.openv.co.za/event/first-aid-level-1-6/
LOCATION:First Medical Response:\, 45-6th Avenue\, Newton Park\, Port Elizabeth\, Eastern Cape\, 6045\, South Africa
CATEGORIES:First Aid Level 1
ATTACH;FMTTYPE=image/png:https://www.fmrsa.openv.co.za/wp-content/uploads/2026/01/calendar-pic-fa1.png
END:VEVENT
BEGIN:VEVENT
DTSTART;TZID=Africa/Harare:20260604T090000
DTEND;TZID=Africa/Harare:20260604T160000
DTSTAMP:20260420T164851
CREATED:20260120T065037Z
LAST-MODIFIED:20260120T070122Z
UID:1243-1780563600-1780588800@www.fmrsa.openv.co.za
SUMMARY:First Aid Level 1
DESCRIPTION:Essential first aid skills to respond confidently to common medical and trauma emergencies.\nLearn how to provide immediate\, lifesaving care until professional help arrives. \nMinimum requirement for OHS workplace compliance. \nClassroom: 1-day.\nOnline:  Pre-recorded/self-paced complete within 14-days.
URL:https://www.fmrsa.openv.co.za/event/first-aid-level-1-7/
LOCATION:First Medical Response:\, 45-6th Avenue\, Newton Park\, Port Elizabeth\, Eastern Cape\, 6045\, South Africa
CATEGORIES:First Aid Level 1
ATTACH;FMTTYPE=image/png:https://www.fmrsa.openv.co.za/wp-content/uploads/2026/01/calendar-pic-fa1.png
END:VEVENT
BEGIN:VEVENT
DTSTART;TZID=Africa/Harare:20260619T090000
DTEND;TZID=Africa/Harare:20260619T160000
DTSTAMP:20260420T164851
CREATED:20260120T065038Z
LAST-MODIFIED:20260120T070103Z
UID:1244-1781859600-1781884800@www.fmrsa.openv.co.za
SUMMARY:First Aid Level 1
DESCRIPTION:Essential first aid skills to respond confidently to common medical and trauma emergencies.\nLearn how to provide immediate\, lifesaving care until professional help arrives. \nMinimum requirement for OHS workplace compliance. \nClassroom: 1-day.\nOnline:  Pre-recorded/self-paced complete within 14-days.
URL:https://www.fmrsa.openv.co.za/event/first-aid-level-1-8/
LOCATION:First Medical Response:\, 45-6th Avenue\, Newton Park\, Port Elizabeth\, Eastern Cape\, 6045\, South Africa
CATEGORIES:First Aid Level 1
ATTACH;FMTTYPE=image/png:https://www.fmrsa.openv.co.za/wp-content/uploads/2026/01/calendar-pic-fa1.png
END:VEVENT
BEGIN:VEVENT
DTSTART;TZID=Africa/Harare:20260714T090000
DTEND;TZID=Africa/Harare:20260714T160000
DTSTAMP:20260420T164851
CREATED:20260120T065039Z
LAST-MODIFIED:20260120T070048Z
UID:1245-1784019600-1784044800@www.fmrsa.openv.co.za
SUMMARY:First Aid Level 1
DESCRIPTION:Essential first aid skills to respond confidently to common medical and trauma emergencies.\nLearn how to provide immediate\, lifesaving care until professional help arrives. \nMinimum requirement for OHS workplace compliance. \nClassroom: 1-day.\nOnline:  Pre-recorded/self-paced complete within 14-days.
URL:https://www.fmrsa.openv.co.za/event/first-aid-level-1-9/
LOCATION:First Medical Response:\, 45-6th Avenue\, Newton Park\, Port Elizabeth\, Eastern Cape\, 6045\, South Africa
CATEGORIES:First Aid Level 1
ATTACH;FMTTYPE=image/png:https://www.fmrsa.openv.co.za/wp-content/uploads/2026/01/calendar-pic-fa1.png
END:VEVENT
BEGIN:VEVENT
DTSTART;TZID=Africa/Harare:20260730T090000
DTEND;TZID=Africa/Harare:20260730T160000
DTSTAMP:20260420T164851
CREATED:20260120T065040Z
LAST-MODIFIED:20260120T070241Z
UID:1246-1785402000-1785427200@www.fmrsa.openv.co.za
SUMMARY:First Aid Level 1
DESCRIPTION:Essential first aid skills to respond confidently to common medical and trauma emergencies.\nLearn how to provide immediate\, lifesaving care until professional help arrives. \nMinimum requirement for OHS workplace compliance. \nClassroom: 1-day.\nOnline:  Pre-recorded/self-paced complete within 14-days.
URL:https://www.fmrsa.openv.co.za/event/first-aid-level-1-10/
LOCATION:First Medical Response:\, 45-6th Avenue\, Newton Park\, Port Elizabeth\, Eastern Cape\, 6045\, South Africa
CATEGORIES:First Aid Level 1
ATTACH;FMTTYPE=image/png:https://www.fmrsa.openv.co.za/wp-content/uploads/2026/01/calendar-pic-fa1.png
END:VEVENT
BEGIN:VEVENT
DTSTART;TZID=Africa/Harare:20260811T090000
DTEND;TZID=Africa/Harare:20260811T160000
DTSTAMP:20260420T164851
CREATED:20260120T065047Z
LAST-MODIFIED:20260120T070010Z
UID:1247-1786438800-1786464000@www.fmrsa.openv.co.za
SUMMARY:First Aid Level 1
DESCRIPTION:Essential first aid skills to respond confidently to common medical and trauma emergencies.\nLearn how to provide immediate\, lifesaving care until professional help arrives. \nMinimum requirement for OHS workplace compliance. \nClassroom: 1-day.\nOnline:  Pre-recorded/self-paced complete within 14-days.
URL:https://www.fmrsa.openv.co.za/event/first-aid-level-1-11/
LOCATION:First Medical Response:\, 45-6th Avenue\, Newton Park\, Port Elizabeth\, Eastern Cape\, 6045\, South Africa
CATEGORIES:First Aid Level 1
ATTACH;FMTTYPE=image/png:https://www.fmrsa.openv.co.za/wp-content/uploads/2026/01/calendar-pic-fa1.png
END:VEVENT
BEGIN:VEVENT
DTSTART;TZID=Africa/Harare:20260828T090000
DTEND;TZID=Africa/Harare:20260828T160000
DTSTAMP:20260420T164851
CREATED:20260120T065048Z
LAST-MODIFIED:20260120T065912Z
UID:1248-1787907600-1787932800@www.fmrsa.openv.co.za
SUMMARY:First Aid Level 1
DESCRIPTION:Essential first aid skills to respond confidently to common medical and trauma emergencies.\nLearn how to provide immediate\, lifesaving care until professional help arrives. \nMinimum requirement for OHS workplace compliance. \nClassroom: 1-day.\nOnline:  Pre-recorded/self-paced complete within 14-days.
URL:https://www.fmrsa.openv.co.za/event/first-aid-level-1-12/
LOCATION:First Medical Response:\, 45-6th Avenue\, Newton Park\, Port Elizabeth\, Eastern Cape\, 6045\, South Africa
CATEGORIES:First Aid Level 1
ATTACH;FMTTYPE=image/png:https://www.fmrsa.openv.co.za/wp-content/uploads/2026/01/calendar-pic-fa1.png
END:VEVENT
END:VCALENDAR