BEGIN:VCALENDAR
VERSION:2.0
PRODID:-//First Medical Response - ECPv6.15.14//NONSGML v1.0//EN
CALSCALE:GREGORIAN
METHOD:PUBLISH
X-WR-CALNAME:First Medical Response
X-ORIGINAL-URL:https://www.fmrsa.openv.co.za
X-WR-CALDESC:Events for First Medical Response
REFRESH-INTERVAL;VALUE=DURATION:PT1H
X-Robots-Tag:noindex
X-PUBLISHED-TTL:PT1H
BEGIN:VTIMEZONE
TZID:Africa/Harare
BEGIN:STANDARD
TZOFFSETFROM:+0200
TZOFFSETTO:+0200
TZNAME:CAT
DTSTART:20250101T000000
END:STANDARD
END:VTIMEZONE
BEGIN:VEVENT
DTSTART;TZID=Africa/Harare:20260423T090000
DTEND;TZID=Africa/Harare:20260423T140000
DTSTAMP:20260420T162558
CREATED:20260120T065106Z
LAST-MODIFIED:20260120T070926Z
UID:1254-1776934800-1776952800@www.fmrsa.openv.co.za
SUMMARY:Basic Fire Fighting
DESCRIPTION:Ideal for individuals or employees at every level\, particularly those responsible for workplace safety and emergency response. \nMinimum OHS Requirement \nClassroom:  1 day.\nOnline:  Pre-recorded/self-paced complete within 14-days
URL:https://www.fmrsa.openv.co.za/event/basic-fire-fighting-6/
LOCATION:First Medical Response:\, 45-6th Avenue\, Newton Park\, Port Elizabeth\, Eastern Cape\, 6045\, South Africa
CATEGORIES:Basic Fire Fighting
ATTACH;FMTTYPE=image/png:https://www.fmrsa.openv.co.za/wp-content/uploads/2026/01/calendar-pic-fire.png
END:VEVENT
BEGIN:VEVENT
DTSTART;TZID=Africa/Harare:20260506T090000
DTEND;TZID=Africa/Harare:20260506T140000
DTSTAMP:20260420T162558
CREATED:20260120T065107Z
LAST-MODIFIED:20260120T070904Z
UID:1255-1778058000-1778076000@www.fmrsa.openv.co.za
SUMMARY:Basic Fire Fighting
DESCRIPTION:Ideal for individuals or employees at every level\, particularly those responsible for workplace safety and emergency response. \nMinimum OHS Requirement \nClassroom:  1 day.\nOnline:  Pre-recorded/self-paced complete within 14-days
URL:https://www.fmrsa.openv.co.za/event/basic-fire-fighting-7/
LOCATION:First Medical Response:\, 45-6th Avenue\, Newton Park\, Port Elizabeth\, Eastern Cape\, 6045\, South Africa
CATEGORIES:Basic Fire Fighting
ATTACH;FMTTYPE=image/png:https://www.fmrsa.openv.co.za/wp-content/uploads/2026/01/calendar-pic-fire.png
END:VEVENT
BEGIN:VEVENT
DTSTART;TZID=Africa/Harare:20260521T090000
DTEND;TZID=Africa/Harare:20260521T140000
DTSTAMP:20260420T162558
CREATED:20260120T065118Z
LAST-MODIFIED:20260120T070826Z
UID:1256-1779354000-1779372000@www.fmrsa.openv.co.za
SUMMARY:Basic Fire Fighting
DESCRIPTION:Ideal for individuals or employees at every level\, particularly those responsible for workplace safety and emergency response. \nMinimum OHS Requirement \nClassroom:  1 day.\nOnline:  Pre-recorded/self-paced complete within 14-days
URL:https://www.fmrsa.openv.co.za/event/basic-fire-fighting-8/
LOCATION:First Medical Response:\, 45-6th Avenue\, Newton Park\, Port Elizabeth\, Eastern Cape\, 6045\, South Africa
CATEGORIES:Basic Fire Fighting
ATTACH;FMTTYPE=image/png:https://www.fmrsa.openv.co.za/wp-content/uploads/2026/01/calendar-pic-fire.png
END:VEVENT
BEGIN:VEVENT
DTSTART;TZID=Africa/Harare:20260605T090000
DTEND;TZID=Africa/Harare:20260605T140000
DTSTAMP:20260420T162558
CREATED:20260120T065119Z
LAST-MODIFIED:20260120T070810Z
UID:1257-1780650000-1780668000@www.fmrsa.openv.co.za
SUMMARY:Basic Fire Fighting
DESCRIPTION:Ideal for individuals or employees at every level\, particularly those responsible for workplace safety and emergency response. \nMinimum OHS Requirement \nClassroom:  1 day.\nOnline:  Pre-recorded/self-paced complete within 14-days
URL:https://www.fmrsa.openv.co.za/event/basic-fire-fighting-9/
LOCATION:First Medical Response:\, 45-6th Avenue\, Newton Park\, Port Elizabeth\, Eastern Cape\, 6045\, South Africa
CATEGORIES:Basic Fire Fighting
ATTACH;FMTTYPE=image/png:https://www.fmrsa.openv.co.za/wp-content/uploads/2026/01/calendar-pic-fire.png
END:VEVENT
BEGIN:VEVENT
DTSTART;TZID=Africa/Harare:20260618T090000
DTEND;TZID=Africa/Harare:20260618T140000
DTSTAMP:20260420T162558
CREATED:20260120T065120Z
LAST-MODIFIED:20260120T070748Z
UID:1258-1781773200-1781791200@www.fmrsa.openv.co.za
SUMMARY:Basic Fire Fighting
DESCRIPTION:Ideal for individuals or employees at every level\, particularly those responsible for workplace safety and emergency response. \nMinimum OHS Requirement \nClassroom:  1 day.\nOnline:  Pre-recorded/self-paced complete within 14-days
URL:https://www.fmrsa.openv.co.za/event/basic-fire-fighting-10/
LOCATION:First Medical Response:\, 45-6th Avenue\, Newton Park\, Port Elizabeth\, Eastern Cape\, 6045\, South Africa
CATEGORIES:Basic Fire Fighting
ATTACH;FMTTYPE=image/png:https://www.fmrsa.openv.co.za/wp-content/uploads/2026/01/calendar-pic-fire.png
END:VEVENT
BEGIN:VEVENT
DTSTART;TZID=Africa/Harare:20260702T090000
DTEND;TZID=Africa/Harare:20260702T140000
DTSTAMP:20260420T162558
CREATED:20260120T065121Z
LAST-MODIFIED:20260120T070732Z
UID:1259-1782982800-1783000800@www.fmrsa.openv.co.za
SUMMARY:Basic Fire Fighting
DESCRIPTION:Ideal for individuals or employees at every level\, particularly those responsible for workplace safety and emergency response. \nMinimum OHS Requirement \nClassroom:  1 day.\nOnline:  Pre-recorded/self-paced complete within 14-days
URL:https://www.fmrsa.openv.co.za/event/basic-fire-fighting-11/
LOCATION:First Medical Response:\, 45-6th Avenue\, Newton Park\, Port Elizabeth\, Eastern Cape\, 6045\, South Africa
CATEGORIES:Basic Fire Fighting
ATTACH;FMTTYPE=image/png:https://www.fmrsa.openv.co.za/wp-content/uploads/2026/01/calendar-pic-fire.png
END:VEVENT
BEGIN:VEVENT
DTSTART;TZID=Africa/Harare:20260717T090000
DTEND;TZID=Africa/Harare:20260717T140000
DTSTAMP:20260420T162558
CREATED:20260120T065122Z
LAST-MODIFIED:20260120T070714Z
UID:1260-1784278800-1784296800@www.fmrsa.openv.co.za
SUMMARY:Basic Fire Fighting
DESCRIPTION:Ideal for individuals or employees at every level\, particularly those responsible for workplace safety and emergency response. \nMinimum OHS Requirement \nClassroom:  1 day.\nOnline:  Pre-recorded/self-paced complete within 14-days
URL:https://www.fmrsa.openv.co.za/event/basic-fire-fighting-12/
LOCATION:First Medical Response:\, 45-6th Avenue\, Newton Park\, Port Elizabeth\, Eastern Cape\, 6045\, South Africa
CATEGORIES:Basic Fire Fighting
ATTACH;FMTTYPE=image/png:https://www.fmrsa.openv.co.za/wp-content/uploads/2026/01/calendar-pic-fire.png
END:VEVENT
BEGIN:VEVENT
DTSTART;TZID=Africa/Harare:20260729T090000
DTEND;TZID=Africa/Harare:20260729T140000
DTSTAMP:20260420T162558
CREATED:20260120T065218Z
LAST-MODIFIED:20260120T070546Z
UID:1261-1785315600-1785333600@www.fmrsa.openv.co.za
SUMMARY:Basic Fire Fighting
DESCRIPTION:Ideal for individuals or employees at every level\, particularly those responsible for workplace safety and emergency response. \nMinimum OHS Requirement \nClassroom:  1 day.\nOnline:  Pre-recorded/self-paced complete within 14-days
URL:https://www.fmrsa.openv.co.za/event/basic-fire-fighting-13/
LOCATION:First Medical Response:\, 45-6th Avenue\, Newton Park\, Port Elizabeth\, Eastern Cape\, 6045\, South Africa
CATEGORIES:Basic Fire Fighting
ATTACH;FMTTYPE=image/png:https://www.fmrsa.openv.co.za/wp-content/uploads/2026/01/calendar-pic-fire.png
END:VEVENT
BEGIN:VEVENT
DTSTART;TZID=Africa/Harare:20260812T090000
DTEND;TZID=Africa/Harare:20260812T140000
DTSTAMP:20260420T162558
CREATED:20260120T065219Z
LAST-MODIFIED:20260120T070532Z
UID:1262-1786525200-1786543200@www.fmrsa.openv.co.za
SUMMARY:Basic Fire Fighting
DESCRIPTION:Ideal for individuals or employees at every level\, particularly those responsible for workplace safety and emergency response. \nMinimum OHS Requirement \nClassroom:  1 day.\nOnline:  Pre-recorded/self-paced complete within 14-days
URL:https://www.fmrsa.openv.co.za/event/basic-fire-fighting-14/
LOCATION:First Medical Response:\, 45-6th Avenue\, Newton Park\, Port Elizabeth\, Eastern Cape\, 6045\, South Africa
CATEGORIES:Basic Fire Fighting
ATTACH;FMTTYPE=image/png:https://www.fmrsa.openv.co.za/wp-content/uploads/2026/01/calendar-pic-fire.png
END:VEVENT
BEGIN:VEVENT
DTSTART;TZID=Africa/Harare:20260825T090000
DTEND;TZID=Africa/Harare:20260825T140000
DTSTAMP:20260420T162558
CREATED:20260120T065220Z
LAST-MODIFIED:20260120T070517Z
UID:1263-1787648400-1787666400@www.fmrsa.openv.co.za
SUMMARY:Basic Fire Fighting
DESCRIPTION:Ideal for individuals or employees at every level\, particularly those responsible for workplace safety and emergency response. \nMinimum OHS Requirement \nClassroom:  1 day.\nOnline:  Pre-recorded/self-paced complete within 14-days
URL:https://www.fmrsa.openv.co.za/event/basic-fire-fighting-15/
LOCATION:First Medical Response:\, 45-6th Avenue\, Newton Park\, Port Elizabeth\, Eastern Cape\, 6045\, South Africa
CATEGORIES:Basic Fire Fighting
ATTACH;FMTTYPE=image/png:https://www.fmrsa.openv.co.za/wp-content/uploads/2026/01/calendar-pic-fire.png
END:VEVENT
END:VCALENDAR